BEGIN:VCALENDAR
VERSION:2.0
PRODID:-//The River’s Edge | Clothing-Optional Gay Campground &amp; RV Resort in Georgia - ECPv6.15.20//NONSGML v1.0//EN
CALSCALE:GREGORIAN
METHOD:PUBLISH
X-ORIGINAL-URL:https://camptheriversedge.com
X-WR-CALDESC:Events for The River’s Edge | Clothing-Optional Gay Campground &amp; RV Resort in Georgia
REFRESH-INTERVAL;VALUE=DURATION:PT1H
X-Robots-Tag:noindex
X-PUBLISHED-TTL:PT1H
BEGIN:VTIMEZONE
TZID:America/New_York
BEGIN:DAYLIGHT
TZOFFSETFROM:-0500
TZOFFSETTO:-0400
TZNAME:EDT
DTSTART:20250309T070000
END:DAYLIGHT
BEGIN:STANDARD
TZOFFSETFROM:-0400
TZOFFSETTO:-0500
TZNAME:EST
DTSTART:20251102T060000
END:STANDARD
BEGIN:DAYLIGHT
TZOFFSETFROM:-0500
TZOFFSETTO:-0400
TZNAME:EDT
DTSTART:20260308T070000
END:DAYLIGHT
BEGIN:STANDARD
TZOFFSETFROM:-0400
TZOFFSETTO:-0500
TZNAME:EST
DTSTART:20261101T060000
END:STANDARD
BEGIN:DAYLIGHT
TZOFFSETFROM:-0500
TZOFFSETTO:-0400
TZNAME:EDT
DTSTART:20270314T070000
END:DAYLIGHT
BEGIN:STANDARD
TZOFFSETFROM:-0400
TZOFFSETTO:-0500
TZNAME:EST
DTSTART:20271107T060000
END:STANDARD
END:VTIMEZONE
BEGIN:VEVENT
DTSTART;VALUE=DATE:20260423
DTEND;VALUE=DATE:20260427
DTSTAMP:20260425T120910
CREATED:20260223T052833Z
LAST-MODIFIED:20260420T154550Z
UID:10000414-1776902400-1777247999@camptheriversedge.com
SUMMARY:Gay Camping Friends Southeast US Regional Meetup
DESCRIPTION:Gay Camping Friends Southeast US Meetup\nApril 23-26\, 2026\nThursday: Arrival & Connection\nArrival and camp setup \n12pm- 5pm: Sundeck pool therapy\, where stress melts\, tan lines begin\, and the only thing on your to-do list is breathe\, float\, repeat. \n7pm- GCF Mix and Mingle (Annual Site 102) Hosted by: Jeff and Craig Sherrill\nSignature drink\, snacks\, and bonfire – low key vibes\nColor coded cups:\nBlue: TRE First Timer\nGreen: Returning Camper\nRed: I Know Everyone\n \n9pm- Adult Coloring Lounge : pull up a seat\, fire side at the Mix and Mingle\, relax and unwind to your childhood coloring your favorite image – NSFW of course! (Annual Site 102) Hosted by: Jeff and Craig Sherrill \n  \nFriday: Play All Day\, Party All Night \n10am-8pm: TRE Photo Booth: Grab your crew\, show off your camp style\, and snap a pic that says loud and proud: the season has begun. So don’t be shy… work that camera and let’s make this summer unforgettable! Share your pics on socials and tag us! (Clubhouse Deck)  \n9:00am-10:00am: Naked Yoga with Shenk\, bring a towel or mat. (Pavilion) Hosted by:  Michael Shenk-Graham \n10am-11am: Naked Hike – Campground Tour (Pavilion) Hosted by: Daniel Mayer and Mark Tucker \n11am-12pm: Pool Volleyball Showdown – Split players up by states they are from\, let’s see who comes out on top. First to 11 or 15 minutes wins! (Pool) Hosted by: Aaron Rodriguez \n12pm-6pm: Pool Vibes : Chill music\, Pool DJ Play List\, Floaties\, and TRE Snow Cones hosted by Derik & Jeremy Pack \n2pm-6pm: Food Truck (Pavilion area) https://www.facebook.com/simplyuscatering \n2pm-3:30pm: Mixin With The Ma’am Mixology – learn some fun cocktail recipes and try your hand at making them. (Clubhouse)  Hosted by: Brad Medlin “The Ma’am” \n2pm-8pm: Bulldog Mercantile – Vending custom shirts\, tank tops\, beard oils\, soaps\, leather\, necklaces\, art\, and much more. Stop by and get your GCF Southeastern Meetup commemorative apparel! (Clubhouse) \n7pm-8pm: Favorite Things Gear Swap – Spring clean and swap out your gear with your fellow campers. Trading harnesses\, jocks\, hoods\, leather or harness-adjacent accessories all encouraged. Each seller manages payment or swap. (Clubhouse) Hosted by: Matt Gleason \n8pm-9pm Stranger Friends Meet N Greet (Firepit) \n9pm-11pm Demoglow Rave W/ DJ Lady Bear & 4EYEZ (Pavillion) \n11pm- Stranger Nights: Red Light (Annual Site 111) Hosted by: Billy Ray \nSaturday: Wet\, Gay Pool Season Kick Off \n10am-8pm: TRE Photo Booth: Grab your crew\, show off your camp style\, and snap a pic that says loud and proud: the season has begun. So don’t be shy… work that camera and let’s make this summer unforgettable! Share your pics on socials and tag us! (Clubhouse Deck) \n9:00am-10:00am: Naked Yoga with Shenk\, bring a towel or mat. (Pavilion) Hosted by: Michael Shenk-Graham \n10:00am-11:00am  Regret Recovery : Continental Breakfast\, Bloody Mary’s & Mimosa’s (Pavilion) Hosted by: Pinky and Jed \n11am-1pm: Sexy Scavenger Hunt (Pavilion) Hosted by: Adam Alder-Stelljes and Spencer Stelljes \n11am-8pm: Bulldog Mercantile – Vending custom shirts\, tank tops\, beard oils\, soaps\, leather\, necklaces\, art\, and much more. Stop by and get your GCF Southeastern Meetup commemorative apparel! (Clubhouse) \n12pm-6pm: Pool Dayze with DJ Neon Horror https://www.facebook.com/brad.gibson\nPool Gaymes (Hosted By Linda)\nJello Shots Hosted by: Kevin Covell Josh McCoy \n1pm-5pm: Food Truck (Pavilion area) https://www.facebook.com/simplyuscatering \n2pm- GCF Yearly Group Photo (Pool) \n3pm- Camp Royalty Craft :Make pageant sashes\, camp crowns\, or merit ribbons (Clubhouse)  Hosted by: Steven and Josh Kitchens \n9pm-11pm: Wet Dreams Pool Party: Help us christen the newly expanded sundeck. Dance the night away under the lights\, cool off with a splash\, or just soak in the energy with friends old and new. DJ Lady Bear & 4EYEZ (Pool Deck) \n11pm- Red Light After Hours Closing Party (Annual Site 111) Hosted by: Billy Ray\n\n**Saturday is a no volleyball day allowing guests to enjoy the pool all day!** \n  \nSunday: GCF & TRE Farewell Float \n9am-1pm: Poolside coffee + electrolyte station with a casual “spill the tea” vibe — funniest moments\, new friendships\, and next-trip plans — not a party\, just a vibe. (Pool Deck) \n1pm: Check out. \n\nSAVE TO YOUR PHONE FOR EASY ACCESS!! \n \nIndoor Over flow hotel accommodations: \nNote\, when staying at a hotel you just need a day pass with your valid membership.  \nQuality Inn Elberton \nEcono Lodge Elberton \n  \nGay Camping Friends is more than just a meetup group — it’s a massive\, welcoming outdoor community built around bringing LGBTQ+ campers together both online and in person. With a huge network of members connecting through social platforms and regional events\, GCF helps campers find friends\, share experiences\, and create safe spaces to explore the outdoors together. They’re “s’more than just an online group\,” hosting real-world gatherings that turn strangers into chosen family around the campfire. Visit their website or join their Facebook Group. 
URL:https://camptheriversedge.com/event/gay-camping-friends-southeast-us-regional-meetup/
LOCATION:The River’s Edge Campground\, 2311 Pulliam Mill Rd\, Dewy Rose\, GA\, 30634\, United States
CATEGORIES:Hosted
ATTACH;FMTTYPE=image/png:https://camptheriversedge.com/wp-content/uploads/2026/02/GCF-DATE.png
END:VEVENT
BEGIN:VEVENT
DTSTART;VALUE=DATE:20260515
DTEND;VALUE=DATE:20260518
DTSTAMP:20260425T120910
CREATED:20260109T024324Z
LAST-MODIFIED:20260109T025923Z
UID:10000408-1778803200-1779062399@camptheriversedge.com
SUMMARY:Red Light : D.I.L.F.
DESCRIPTION:🔥 RED LIGHT: D.I.L.F. — Turn the Heat All the Way Up 🔥 \nStep into the glow and surrender to a weekend where confidence is king\, bodies are celebrated\, and the red light never goes out. Red Light: D.I.L.F. is more than an event—it’s a full-throttle experience designed for men who know exactly who they are and aren’t afraid to show it. \nFrom the first sparks at Friday’s firepit meet & greet to the final late-night moments of After Dark – The Wreck-oning\, this weekend delivers nonstop energy\, connection\, and unapologetic fun. Expect seductive lighting\, thumping beats\, flowing shots\, and themed parties that invite you to dress the part\, let loose\, and live fully in the moment. \nWhether you come to socialize\, dance\, flirt\, or fully indulge\, Red Light: D.I.L.F. is your invitation to step out of the shadows and into something unforgettable. \n🚨 The light is red. The rules are off. 🚨 \nFriday 5/15:\n8:00 Meet and Greet (Firepit) Beverages will be served\n9:00 Red Light After Dark (Red Light 111) Beverages will be served \nSaturday 5/16\n1:00 – 4:00 Cocks\, Tails and Tunes (Pool) Beverages will be served\n7:30 Illuminations Mini Shot Crawl (Jacobs Ladder) 3 Stations on the trail will be lit up in different colors with shots matching the light color at each station)\n9:00 – 11:00 – Red Gear Dance Party (The Cock Ring-Tent sites 65-70) Beverages will be served\n11:00 – Red Light After Dark – Part II – The Wreck-oning (Red Light 111) Beverages will be served
URL:https://camptheriversedge.com/event/red-light-dilf/
LOCATION:The River’s Edge Campground\, 2311 Pulliam Mill Rd\, Dewy Rose\, GA\, 30634\, United States
CATEGORIES:Hosted
ATTACH;FMTTYPE=image/png:https://camptheriversedge.com/wp-content/uploads/2026/01/Red-Light-DILF.png
END:VEVENT
BEGIN:VEVENT
DTSTART;TZID=America/New_York:20260522T110000
DTEND;TZID=America/New_York:20260525T110000
DTSTAMP:20260425T120910
CREATED:20251006T215828Z
LAST-MODIFIED:20251006T215828Z
UID:10000371-1779447600-1779706800@camptheriversedge.com
SUMMARY:Memorial Day Weekend 2026
DESCRIPTION:More details to come
URL:https://camptheriversedge.com/event/memorial-day-weekend-2026/
LOCATION:The River’s Edge Campground\, 2311 Pulliam Mill Rd\, Dewy Rose\, GA\, 30634\, United States
CATEGORIES:Hosted
ATTACH;FMTTYPE=image/png:https://camptheriversedge.com/wp-content/uploads/2025/10/memorial-day-2026.png
END:VEVENT
BEGIN:VEVENT
DTSTART;VALUE=DATE:20260529
DTEND;VALUE=DATE:20260601
DTSTAMP:20260425T120910
CREATED:20260124T021051Z
LAST-MODIFIED:20260124T021051Z
UID:10000410-1780012800-1780271999@camptheriversedge.com
SUMMARY:TRANS CAMP WEEKEND 2026
DESCRIPTION:🏳️‍⚧️ Trans Camp Weekend 🏳️‍⚧️ A weekend to cultivate community\, create spaces for joy\, and to enrich the live of trans/queer humans. \nJoin us for Trans Camp Weekend\, a joyful gathering created to celebrate trans\, non-binary\, and gender-expansive community—along with allies who show up with love and respect. Whether it’s your first time at camp or you’re already family\, this weekend is all about being yourself\, making connections\, and having a damn good time. \n✨ FRIDAY\nKick things off easy and social: \n\n\n6:00pm – Walking TourPerfect for newcomers or anyone who just wants to hang and explore together. \n\n\n8:00–10:00pm – Meet & GreetSoda & water provided—come mingle\, relax\, and meet fellow weekend campers. \n\n\n10:30pm–12:00am – Welcome Dance PartyGet moving with DJ HOUNDST33TH bringing the beats to start the weekend right. \n\n\n✨ SATURDAY\nA full day of fun\, expression\, and chosen family: \n\n\n10:00–11:00am – Breakfast \n\n\n12:00–8:00pm – Clothing Swap \n\n\n12:00–4:00pm – Crafting RoomSponsored by Scraplanta—come get creative! \n\n\n1:00–5:00pm – Pool PartyDJ playlist vibes from 2:00–4:00pm. \n\n\n6:30pm – Dinner PotluckFood drop-off from 5:30–6:00pm.Please sign up in advance so we can plan accordingly. \n\n\n8:00–10:00pm – Karaoke NightHosted by Jayme McCauley—sing\, cheer\, or just enjoy the show.🎟️ Raffle drawings will happen throughout karaoke! \n\n\nCome for one event or stay for it all—Trans Camp Weekend is about joy\, safety\, expression\, and community. Come as you are. You belong here. 💖
URL:https://camptheriversedge.com/event/trans-camp-weekend-2026/
LOCATION:The River’s Edge Campground\, 2311 Pulliam Mill Rd\, Dewy Rose\, GA\, 30634\, United States
CATEGORIES:Hosted
ATTACH;FMTTYPE=image/jpeg:https://camptheriversedge.com/wp-content/uploads/2026/01/TCW_2026_1920x1080_draft01.jpg
END:VEVENT
BEGIN:VEVENT
DTSTART;VALUE=DATE:20260619
DTEND;VALUE=DATE:20260622
DTSTAMP:20260425T120910
CREATED:20260131T054925Z
LAST-MODIFIED:20260131T055046Z
UID:10000412-1781827200-1782086399@camptheriversedge.com
SUMMARY:Pride : Celebrating 32 Proud Years
DESCRIPTION:PRIDE at TRE: 32 Years ProudJune 19–20\, 2026 \nFor 32 proud years\, The River’s Edge has been more than a campground—it’s been a chosen family\, a safe haven\, and a place where GLBT joy isn’t just welcomed\, it’s celebrated. This June\, we invite you to stand with us\, dance with us\, and show up loudly and proudly for a Pride Weekend that promises to be bigger\, bolder\, and more meaningful than ever. \nPride isn’t just a party—it’s a statement. In a time when our rights\, our visibility\, and our very existence are being challenged\, showing up matters. Every laugh\, every hug\, every shared moment under the stars is a reminder that community is our greatest strength. When we gather\, we remind the world—and ourselves—that we are resilient\, united\, and here to stay. \nAt TRE\, Pride means:\n✨ Celebrating who you are\, exactly as you are✨ Honoring the generations who paved the way✨ Standing together in the face of uncertainty✨ Creating joy as an act of resistance \nThis weekend is about visibility\, solidarity\, and love—wrapped in music\, connection\, and unforgettable moments with people who get it. Whether this is your first Pride or your thirty-second\, you belong here. \nCome celebrate 32 years of Pride\, progress\, and powerful community at TRE.
URL:https://camptheriversedge.com/event/pride-celebrating-32-proud-years/
LOCATION:The River’s Edge Campground\, 2311 Pulliam Mill Rd\, Dewy Rose\, GA\, 30634\, United States
CATEGORIES:Hosted
ATTACH;FMTTYPE=image/png:https://camptheriversedge.com/wp-content/uploads/2026/01/Pride-2026.png
END:VEVENT
BEGIN:VEVENT
DTSTART;TZID=America/New_York:20260703T110000
DTEND;TZID=America/New_York:20260706T110000
DTSTAMP:20260425T120910
CREATED:20251006T230010Z
LAST-MODIFIED:20251006T230010Z
UID:10000378-1783076400-1783335600@camptheriversedge.com
SUMMARY:July 4th Weekend 2026
DESCRIPTION:More details to come.
URL:https://camptheriversedge.com/event/july-4th-weekend-2026/
LOCATION:The River’s Edge Campground\, 2311 Pulliam Mill Rd\, Dewy Rose\, GA\, 30634\, United States
CATEGORIES:Hosted
ATTACH;FMTTYPE=image/png:https://camptheriversedge.com/wp-content/uploads/2025/10/july-4th.png
END:VEVENT
BEGIN:VEVENT
DTSTART;VALUE=DATE:20260724
DTEND;VALUE=DATE:20260727
DTSTAMP:20260425T120910
CREATED:20260123T032140Z
LAST-MODIFIED:20260123T032140Z
UID:10000409-1784851200-1785110399@camptheriversedge.com
SUMMARY:Latin Flavors Weekend
DESCRIPTION:🔥💃 Latin Flavors Weekend 🕺🔥Turn up the heat. Feel the rhythm. Savor the flavor. \nGet ready for a weekend where the beats are spicy\, the vibes are caliente\, and the memories are guaranteed to sizzle. Latin Flavors Weekend is bringing the passion\, music\, and energy of Latin nights straight to camp—and you’re invited to dance\, sip\, and celebrate all weekend long. \n🌴 Come dance. Come taste. Come feel the passion.Dress sexy\, stay hydrated\, and let the rhythm guide you—Latin Flavors Weekend is calling. \n💃🕺 ¡Vamos a bailar! \n\nEvent schedule coming soon!
URL:https://camptheriversedge.com/event/latin-flavors-weekend/
LOCATION:The River’s Edge Campground\, 2311 Pulliam Mill Rd\, Dewy Rose\, GA\, 30634\, United States
CATEGORIES:Hosted
ATTACH;FMTTYPE=image/png:https://camptheriversedge.com/wp-content/uploads/2026/01/9235721b-5bab-490a-99bf-022954896ca7.png
END:VEVENT
BEGIN:VEVENT
DTSTART;TZID=America/New_York:20260731T110000
DTEND;TZID=America/New_York:20260802T110000
DTSTAMP:20260425T120910
CREATED:20251006T223926Z
LAST-MODIFIED:20251007T124259Z
UID:10000376-1785495600-1785668400@camptheriversedge.com
SUMMARY:Nude Gaymes 2026
DESCRIPTION:More details to come.
URL:https://camptheriversedge.com/event/nude-gaymes-2026/
LOCATION:The River’s Edge Campground\, 2311 Pulliam Mill Rd\, Dewy Rose\, GA\, 30634\, United States
CATEGORIES:Hosted
ATTACH;FMTTYPE=image/png:https://camptheriversedge.com/wp-content/uploads/2025/10/Nude-Gaymes.png
END:VEVENT
BEGIN:VEVENT
DTSTART;VALUE=DATE:20260828
DTEND;VALUE=DATE:20260831
DTSTAMP:20260425T120910
CREATED:20260330T020839Z
LAST-MODIFIED:20260330T021506Z
UID:10000445-1787875200-1788134399@camptheriversedge.com
SUMMARY:Neon Nights
DESCRIPTION:Turn up the glow and step into one of the most electric weekends of the season! Neon Nights is your chance to connect\, celebrate\, and light up the campground from dusk to dawn. Kick things off with a laid-back Meet n Greet\, then dive into glowing vibes all weekend long—from the high-energy GLOW party and late-night AfterGLOW\, to Saturday’s Reflections Pool Party where neon and sequins shine brightest. Share laughs over a community potluck\, get a little wild on the Get Lit! Shot Crawl\, and dance the night away at our signature Neon Nights Pool Deck Party under lasers and lights. It’s bold\, it’s vibrant\, and it’s all about community\, music\, and unforgettable summer energy—you won’t want to miss it. \nCampers are encouraged to GLOW up their site for the weekend. There’s a $50 Nasty Pig gift card to the winner! \nFriday:\n8pm – Meet n Greet\n9pm – GLOW Dance Party at pavilion\n11pm – AFTERGLOW at Red Light \nSaturday:\n1-4pm Reflections Pool party – Wear your best neon or sequin colors!!\n6pm Potluck Dinner\n730pm Get LIT! – Shot crawl\n9pm NEON NIGHTS – Pool Deck Dance Party\n11pm AFTERGLOW at Red Light
URL:https://camptheriversedge.com/event/neon-nights/
LOCATION:The River’s Edge Campground\, 2311 Pulliam Mill Rd\, Dewy Rose\, GA\, 30634\, United States
CATEGORIES:Hosted
ATTACH;FMTTYPE=image/png:https://camptheriversedge.com/wp-content/uploads/2026/03/Neon-Nights.png
END:VEVENT
BEGIN:VEVENT
DTSTART;TZID=America/New_York:20260904T110000
DTEND;TZID=America/New_York:20260907T110000
DTSTAMP:20260425T120910
CREATED:20251006T224151Z
LAST-MODIFIED:20251006T224234Z
UID:10000377-1788519600-1788778800@camptheriversedge.com
SUMMARY:Labor Day Weekend 2026
DESCRIPTION:More details to come.
URL:https://camptheriversedge.com/event/labor-day-weekend-2026/
LOCATION:The River’s Edge Campground\, 2311 Pulliam Mill Rd\, Dewy Rose\, GA\, 30634\, United States
CATEGORIES:Hosted
ATTACH;FMTTYPE=image/png:https://camptheriversedge.com/wp-content/uploads/2025/10/Labor-Day.png
END:VEVENT
BEGIN:VEVENT
DTSTART;TZID=America/New_York:20261030T110000
DTEND;TZID=America/New_York:20261101T110000
DTSTAMP:20260425T120910
CREATED:20251026T232529Z
LAST-MODIFIED:20251026T232529Z
UID:10000403-1793358000-1793530800@camptheriversedge.com
SUMMARY:Halloween 2026
DESCRIPTION:More details to come. ….
URL:https://camptheriversedge.com/event/halloween-2026/
LOCATION:The River’s Edge Campground\, 2311 Pulliam Mill Rd\, Dewy Rose\, GA\, 30634\, United States
CATEGORIES:Hosted
ATTACH;FMTTYPE=image/png:https://camptheriversedge.com/wp-content/uploads/2025/10/The-Rivers-Edge-Halloween-2026.png
END:VEVENT
BEGIN:VEVENT
DTSTART;VALUE=DATE:20261113
DTEND;VALUE=DATE:20261116
DTSTAMP:20260425T120910
CREATED:20260131T051442Z
LAST-MODIFIED:20260131T052121Z
UID:10000411-1794528000-1794787199@camptheriversedge.com
SUMMARY:LumberSexual Fall Shot Crawl 2026
DESCRIPTION:November 13 – 14Hosted by: Steven Kitchens and Joshua Kitchens – White Lotus\, Gene Brown and Mike Holland – Moulin Rouge\nBRING A NEW\, UNWRAPPED TOY FOR THIS YEAR’S TRE TOY DRIVE\nFriday\, Nov 13th7:00 PM MEET & GREET + BONFIRE@ Bonfire Pit\n8:00 PM LUMBERSEXUAL DANCE PARTY @ The Pavilion w/DJ Krispy Kreme (Lumberjack Dress Encouraged)\n\nSaturday\, Nov 14th2:00 PM VETERANS DAY | HONORING ALL WHO SERVED Veterans Day Ceremony and Honor Guard FALL CRAWL – 6 STOP SHOT CRAWL6 Different Sites across camp will host shots of there choosing and light snacks will be provided. Shot Crawl begins when the Veterans Day Ceremony concludes.**Stop Locations will be updated closer to the event date.\n6:00 PM SATURDAY NIGHT POTLUCK @ Clubhouse\nAFTER PARTY @ Moulin Rouge Annual Site 26\n\n*All Events and Crawl Stops are subject to change without notice
URL:https://camptheriversedge.com/event/lumbersexual-fall-shot-crawl-2026/
LOCATION:The River’s Edge Campground\, 2311 Pulliam Mill Rd\, Dewy Rose\, GA\, 30634\, United States
CATEGORIES:Hosted
ATTACH;FMTTYPE=image/png:https://camptheriversedge.com/wp-content/uploads/2026/01/LumberSexual-2026-1920-x-1080-px.png
END:VEVENT
BEGIN:VEVENT
DTSTART;TZID=America/New_York:20261126T110000
DTEND;TZID=America/New_York:20261129T110000
DTSTAMP:20260425T120910
CREATED:20251026T234408Z
LAST-MODIFIED:20251201T214213Z
UID:10000404-1795690800-1795950000@camptheriversedge.com
SUMMARY:Thanksgiving 2026
DESCRIPTION:More details to come……
URL:https://camptheriversedge.com/event/thanksgiving-2026/
LOCATION:The River’s Edge Campground\, 2311 Pulliam Mill Rd\, Dewy Rose\, GA\, 30634\, United States
CATEGORIES:Hosted
ATTACH;FMTTYPE=image/png:https://camptheriversedge.com/wp-content/uploads/2025/10/The-Rivers-Edge-Thankgsgiving-2026.png
END:VEVENT
END:VCALENDAR